Workbook

Sheet Приложение №4
J1: Приложение 2
H2: к Решению Собрания представителей муниципального района Кинельский "О бюджете муниципального района Кинельский на 2026 год и на плановый период 2027 и 2028 годов"
B4: Ведомственная структура расходов бюджета муниципального района Кинельский на 2026 год.
B6: Код глав-ного рас-поря-дителя бюджетных средств | C6: Наименование главного распорядителя средств бюджета, раздела, подраздела, целевой статьи, вида расходов классификации расходов бюджета | D6: Рз | E6: ПР | F6: ЦСР | G6: ВР | H6: Сумма, тыс. рублей | J6: Уточненная сумма, тыс. рублей
H10: Всего | I10: в том числе за счет целевых средств вышестоящих бюджетов | J10: Всего | K10: в том числе за счет целевых средств вышестоящих бюджетов
A14: 0 | B14: 920 | C14: Управление финансами администрации муниципального района Кинельский Самарской области | H14: =SUMIFS(H15:H1054,$B15:$B1054,$B15)/3 -> 91718.1 | I14: =SUMIFS(I15:I1054,$B15:$B1054,$B15)/3 -> 2091 | J14: =SUMIFS(J15:J1054,$B15:$B1054,$B15)/3 -> 91718.1 | K14: =SUMIFS(K15:K1054,$B15:$B1054,$B15)/3 -> 2091
A15: 1 | B15: 920 | C15: Обеспечение деятельности финансовых, налоговых и таможенных органов и органов финансового (финансово-бюджетного) надзора | D15: 01 | E15: 06 | H15: =SUMIFS(H16:H1049,$B16:$B1049,$B16,$D16:$D1049,$D16,$E16:$E1049,$E16)/2 -> 21974.5 | I15: =SUMIFS(I16:I1049,$B16:$B1049,$B16,$D16:$D1049,$D16,$E16:$E1049,$E16)/2 -> 0 | J15: =SUMIFS(J16:J1049,$B16:$B1049,$B16,$D16:$D1049,$D16,$E16:$E1049,$E16)/2 -> 21974.5 | K15: =SUMIFS(K16:K1049,$B16:$B1049,$B16,$D16:$D1049,$D16,$E16:$E1049,$E16)/2 -> 0
A16: 2 | B16: 920 | C16: МП "Развитие и улучшение материально-технического оснащения муниципальных учреждений муниципального района Кинельский" на 2024-2028 годы. | D16: 01 | E16: 06 | F16: 11 0 00 00000 | H16: =SUMIFS(H17:H1049,$B17:$B1049,$B16,$D17:$D1049,$D17,$E17:$E1049,$E17,$F17:$F1049,$F17) -> 70 | I16: =SUMIFS(I17:I1049,$B17:$B1049,$B16,$D17:$D1049,$D17,$E17:$E1049,$E17,$F17:$F1049,$F17) -> 0 | J16: =SUMIFS(J17:J1049,$B17:$B1049,$B16,$D17:$D1049,$D17,$E17:$E1049,$E17,$F17:$F1049,$F17) -> 70 | K16: =SUMIFS(K17:K1049,$B17:$B1049,$B16,$D17:$D1049,$D17,$E17:$E1049,$E17,$F17:$F1049,$F17) -> 0
A17: 3 | B17: 920 | C17: Иные закупки товаров, работ и услуг для обеспечения государственных (муниципальных) нужд | D17: 01 | E17: 06 | F17: 11 0 00 00000 | G17: 240 | H17: 70 | J17: 70
A18: 2 | B18: 920 | C18: МП "Развитие муниципальной службы в органах местного самоуправления муниципального района Кинельский Самарской области" на 2022-2028 г | D18: 01 | E18: 06 | F18: 16 0 00 00000 | H18: =SUMIFS(H19:H1051,$B19:$B1051,$B18,$D19:$D1051,$D19,$E19:$E1051,$E19,$F19:$F1051,$F19) -> 31.5 | I18: =SUMIFS(I19:I1051,$B19:$B1051,$B18,$D19:$D1051,$D19,$E19:$E1051,$E19,$F19:$F1051,$F19) -> 0 | J18: =SUMIFS(J19:J1051,$B19:$B1051,$B18,$D19:$D1051,$D19,$E19:$E1051,$E19,$F19:$F1051,$F19) -> 31.5 | K18: =SUMIFS(K19:K1051,$B19:$B1051,$B18,$D19:$D1051,$D19,$E19:$E1051,$E19,$F19:$F1051,$F19) -> 0
A19: 3 | B19: 920 | C19: Иные закупки товаров, работ и услуг для обеспечения государственных (муниципальных) нужд | D19: 01 | E19: 06 | F19: 16 0 00 00000 | G19: 240 | H19: 31.5 | J19: 31.5
A20: 2 | B20: 920 | C20: Непрограммные направления расходов в сфере установленных функций органов государственной власти субъектов Российской Федерации и органов местного самоуправления | D20: 01 | E20: 06 | F20: 51 0 00 00000 | H20: =SUMIFS(H21:H1053,$B21:$B1053,$B20,$D21:$D1053,$D21,$E21:$E1053,$E21,$F21:$F1053,$F21) -> 21873 | I20: =SUMIFS(I21:I1053,$B21:$B1053,$B20,$D21:$D1053,$D21,$E21:$E1053,$E21,$F21:$F1053,$F21) -> 0 | J20: =SUMIFS(J21:J1053,$B21:$B1053,$B20,$D21:$D1053,$D21,$E21:$E1053,$E21,$F21:$F1053,$F21) -> 21873 | K20: =SUMIFS(K21:K1053,$B21:$B1053,$B20,$D21:$D1053,$D21,$E21:$E1053,$E21,$F21:$F1053,$F21) -> 0
A21: 3 | B21: 920 | C21: Расходы на выплаты персоналу государственных (муниципальных) органов | D21: 01 | E21: 06 | F21: 51 0 00 00000 | G21: 120 | H21: 21498.6 | J21: 21498.6
A22: 3 | B22: 920 | C22: Иные закупки товаров, работ и услуг для обеспечения государственных (муниципальных) нужд | D22: 01 | E22: 06 | F22: 51 0 00 00000 | G22: 240 | H22: 374.4 | J22: 374.4
A23: 3 | B23: 920 | C23: Уплата налогов, сборов и иных платежей | D23: 01 | E23: 06 | F23: 51 0 00 00000 | G23: 850
A24: 1 | B24: 920 | C24: Другие общегосударственные вопросы | D24: 01 | E24: 13 | H24: =SUMIFS(H25:H1058,$B25:$B1058,$B25,$D25:$D1058,$D25,$E25:$E1058,$E25)/2 -> 0 | I24: =SUMIFS(I25:I1058,$B25:$B1058,$B25,$D25:$D1058,$D25,$E25:$E1058,$E25)/2 -> 0 | J24: =SUMIFS(J25:J1058,$B25:$B1058,$B25,$D25:$D1058,$D25,$E25:$E1058,$E25)/2 -> 0 | K24: =SUMIFS(K25:K1058,$B25:$B1058,$B25,$D25:$D1058,$D25,$E25:$E1058,$E25)/2 -> 0
A25: 2 | B25: 920 | C25: Непрограммные направления расходов местного бюджета в области общегосударственных вопросов | D25: 01 | E25: 13 | F25: 57 0 00 00000 | H25: =SUMIFS(H26:H1058,$B26:$B1058,$B25,$D26:$D1058,$D26,$E26:$E1058,$E26,$F26:$F1058,$F26) -> 0 | I25: =SUMIFS(I26:I1058,$B26:$B1058,$B25,$D26:$D1058,$D26,$E26:$E1058,$E26,$F26:$F1058,$F26) -> 0 | J25: =SUMIFS(J26:J1058,$B26:$B1058,$B25,$D26:$D1058,$D26,$E26:$E1058,$E26,$F26:$F1058,$F26) -> 0 | K25: =SUMIFS(K26:K1058,$B26:$B1058,$B25,$D26:$D1058,$D26,$E26:$E1058,$E26,$F26:$F1058,$F26) -> 0
A26: 3 | B26: 920 | C26: Исполнение судебных актов | D26: 01 | E26: 13 | F26: 57 0 00 00000 | G26: 830
A27: 1 | B27: 920 | C27: Обслуживание государственного (муниципального) внутреннего долга | D27: 13 | E27: 01 | H27: =SUMIFS(H28:H1061,$B28:$B1061,$B28,$D28:$D1061,$D28,$E28:$E1061,$E28)/2 -> 1050 | I27: =SUMIFS(I28:I1061,$B28:$B1061,$B28,$D28:$D1061,$D28,$E28:$E1061,$E28)/2 -> 0 | J27: =SUMIFS(J28:J1061,$B28:$B1061,$B28,$D28:$D1061,$D28,$E28:$E1061,$E28)/2 -> 1050 | K27: =SUMIFS(K28:K1061,$B28:$B1061,$B28,$D28:$D1061,$D28,$E28:$E1061,$E28)/2 -> 0
A28: 2 | B28: 920 | C28: Непрограммные направления расходов местного бюджета в сфере обслуживания внутреннего государственного и муниципального долга | D28: 13 | E28: 01 | F28: 56 0 00 00000 | H28: =SUMIFS(H29:H1061,$B29:$B1061,$B28,$D29:$D1061,$D29,$E29:$E1061,$E29,$F29:$F1061,$F29) -> 1050 | I28: =SUMIFS(I29:I1061,$B29:$B1061,$B28,$D29:$D1061,$D29,$E29:$E1061,$E29,$F29:$F1061,$F29) -> 0 | J28: =SUMIFS(J29:J1061,$B29:$B1061,$B28,$D29:$D1061,$D29,$E29:$E1061,$E29,$F29:$F1061,$F29) -> 1050 | K28: =SUMIFS(K29:K1061,$B29:$B1061,$B28,$D29:$D1061,$D29,$E29:$E1061,$E29,$F29:$F1061,$F29) -> 0
A29: 3 | B29: 920 | C29: Обслуживание муниципального долга | D29: 13 | E29: 01 | F29: 56 0 00 00000 | G29: 730 | H29: 1050 | J29: 1050
A30: 1 | B30: 920 | C30: Дотации на выравнивание бюджетной обеспеченности субъектов Российской Федерации и муниципальных образований | D30: 14 | E30: 01 | H30: =SUMIFS(H31:H1064,$B31:$B1064,$B31,$D31:$D1064,$D31,$E31:$E1064,$E31)/2 -> 21900 | I30: =SUMIFS(I31:I1064,$B31:$B1064,$B31,$D31:$D1064,$D31,$E31:$E1064,$E31)/2 -> 2091 | J30: =SUMIFS(J31:J1064,$B31:$B1064,$B31,$D31:$D1064,$D31,$E31:$E1064,$E31)/2 -> 21900 | K30: =SUMIFS(K31:K1064,$B31:$B1064,$B31,$D31:$D1064,$D31,$E31:$E1064,$E31)/2 -> 2091
A31: 2 | B31: 920 | C31: Непрограммные направления расходов в области межбюджетных трансфертов | D31: 14 | E31: 01 | F31: 54 0 00 00000 | H31: =SUMIFS(H32:H1064,$B32:$B1064,$B31,$D32:$D1064,$D32,$E32:$E1064,$E32,$F32:$F1064,$F32) -> 21900 | I31: =SUMIFS(I32:I1064,$B32:$B1064,$B31,$D32:$D1064,$D32,$E32:$E1064,$E32,$F32:$F1064,$F32) -> 2091 | J31: =SUMIFS(J32:J1064,$B32:$B1064,$B31,$D32:$D1064,$D32,$E32:$E1064,$E32,$F32:$F1064,$F32) -> 21900 | K31: =SUMIFS(K32:K1064,$B32:$B1064,$B31,$D32:$D1064,$D32,$E32:$E1064,$E32,$F32:$F1064,$F32) -> 2091
A32: 3 | B32: 920 | C32: Дотации | D32: 14 | E32: 01 | F32: 54 0 00 00000 | G32: 510 | H32: 21900 | I32: 2091 | J32: 21900 | K32: 2091
A33: 1 | B33: 920 | C33: Прочие межбюджетные трансферты общего характера | D33: 14 | E33: 03 | H33: =SUMIFS(H34:H1067,$B34:$B1067,$B34,$D34:$D1067,$D34,$E34:$E1067,$E34)/2 -> 46793.6 | I33: =SUMIFS(I34:I1067,$B34:$B1067,$B34,$D34:$D1067,$D34,$E34:$E1067,$E34)/2 -> 0 | J33: =SUMIFS(J34:J1067,$B34:$B1067,$B34,$D34:$D1067,$D34,$E34:$E1067,$E34)/2 -> 46793.6 | K33: =SUMIFS(K34:K1067,$B34:$B1067,$B34,$D34:$D1067,$D34,$E34:$E1067,$E34)/2 -> 0
A34: 2 | B34: 920 | C34: МП " Охрана окружающей среды на территории муниципального района Кинельский Самарской области на 2022 - 2028 годы" | D34: 14 | E34: 03 | F34: 09 0 00 00000 | H34: =SUMIFS(H35:H1067,$B35:$B1067,$B34,$D35:$D1067,$D35,$E35:$E1067,$E35,$F35:$F1067,$F35) -> 4075.3 | I34: =SUMIFS(I35:I1067,$B35:$B1067,$B34,$D35:$D1067,$D35,$E35:$E1067,$E35,$F35:$F1067,$F35) -> 0 | J34: =SUMIFS(J35:J1067,$B35:$B1067,$B34,$D35:$D1067,$D35,$E35:$E1067,$E35,$F35:$F1067,$F35) -> 4075.3 | K34: =SUMIFS(K35:K1067,$B35:$B1067,$B34,$D35:$D1067,$D35,$E35:$E1067,$E35,$F35:$F1067,$F35) -> 0
A35: 3 | B35: 920 | C35: Иные межбюджетные трансферты | D35: 14 | E35: 03 | F35: 09 0 00 00000 | G35: 540 | H35: 4075.3 | J35: 4075.3
A36: 2 | B36: 920 | C36: Непрограммные направления расходов в области межбюджетных трансфертов | D36: 14 | E36: 03 | F36: 54 0 00 00000 | H36: =SUMIFS(H37:H1069,$B37:$B1069,$B36,$D37:$D1069,$D37,$E37:$E1069,$E37,$F37:$F1069,$F37) -> 42718.3 | I36: =SUMIFS(I37:I1069,$B37:$B1069,$B36,$D37:$D1069,$D37,$E37:$E1069,$E37,$F37:$F1069,$F37) -> 0 | J36: =SUMIFS(J37:J1069,$B37:$B1069,$B36,$D37:$D1069,$D37,$E37:$E1069,$E37,$F37:$F1069,$F37) -> 42718.3 | K36: =SUMIFS(K37:K1069,$B37:$B1069,$B36,$D37:$D1069,$D37,$E37:$E1069,$E37,$F37:$F1069,$F37) -> 0
A37: 3 | B37: 920 | C37: Иные межбюджетные трансферты | D37: 14 | E37: 03 | F37: 54 0 00 00000 | G37: 540 | H37: 42718.3 | J37: 42718.3
A38: 0 | B38: 933 | C38: Собрание представителей муниципального района Кинельский Самарской области | H38: =SUMIFS(H39:H1078,$B39:$B1078,$B39)/3 -> 926.8 | I38: =SUMIFS(I39:I1078,$B39:$B1078,$B39)/3 -> 0 | J38: =SUMIFS(J39:J1078,$B39:$B1078,$B39)/3 -> 926.8 | K38: =SUMIFS(K39:K1078,$B39:$B1078,$B39)/3 -> 0
A39: 1 | B39: 933 | C39: Функционирование законодательных (представительных) органов государственной власти и представительных органов муниципальных образований | D39: 01 | E39: 03 | H39: =SUMIFS(H40:H1073,$B40:$B1073,$B40,$D40:$D1073,$D40,$E40:$E1073,$E40)/2 -> 926.8 | I39: =SUMIFS(I40:I1073,$B40:$B1073,$B40,$D40:$D1073,$D40,$E40:$E1073,$E40)/2 -> 0 | J39: =SUMIFS(J40:J1073,$B40:$B1073,$B40,$D40:$D1073,$D40,$E40:$E1073,$E40)/2 -> 926.8 | K39: =SUMIFS(K40:K1073,$B40:$B1073,$B40,$D40:$D1073,$D40,$E40:$E1073,$E40)/2 -> 0
A40: 2 | B40: 933 | C40: Непрограммные направления расходов в сфере установленных функций органов государственной власти субъектов Российской Федерации и органов местного самоуправления | D40: 01 | E40: 03 | F40: 51 0 00 00000 | H40: =SUMIFS(H41:H1073,$B41:$B1073,$B40,$D41:$D1073,$D41,$E41:$E1073,$E41,$F41:$F1073,$F41) -> 926.8 | I40: =SUMIFS(I41:I1073,$B41:$B1073,$B40,$D41:$D1073,$D41,$E41:$E1073,$E41,$F41:$F1073,$F41) -> 0 | J40: =SUMIFS(J41:J1073,$B41:$B1073,$B40,$D41:$D1073,$D41,$E41:$E1073,$E41,$F41:$F1073,$F41) -> 926.8 | K40: =SUMIFS(K41:K1073,$B41:$B1073,$B40,$D41:$D1073,$D41,$E41:$E1073,$E41,$F41:$F1073,$F41) -> 0
A41: 3 | B41: 933 | C41: Расходы на выплаты персоналу государственных (муниципальных) органов | D41: 01 | E41: 03 | F41: 51 0 00 00000 | G41: 120 | H41: 698.3 | J41: 698.3
A42: 3 | B42: 933 | C42: Иные закупки товаров, работ и услуг для обеспечения государственных (муниципальных) нужд | D42: 01 | E42: 03 | F42: 51 0 00 00000 | G42: 240 | H42: 228.5 | J42: 228.5
A43: 0 | B43: 934 | C43: Контрольно-счётная палата муниципального района Кинельский Самарской области | H43: =SUMIFS(H44:H1085,$B44:$B1085,$B44)/3 -> 3305.7 | I43: =SUMIFS(I44:I1085,$B44:$B1085,$B44)/3 -> 0 | J43: =SUMIFS(J44:J1085,$B44:$B1085,$B44)/3 -> 3305.7 | K43: =SUMIFS(K44:K1085,$B44:$B1085,$B44)/3 -> 0
A44: 1 | B44: 934 | C44: Обеспечение деятельности финансовых, налоговых и таможенных органов и органов финансового (финансово-бюджетного) надзора | D44: 01 | E44: 06 | H44: =SUMIFS(H45:H1078,$B45:$B1078,$B45,$D45:$D1078,$D45,$E45:$E1078,$E45)/2 -> 3305.7 | I44: =SUMIFS(I45:I1078,$B45:$B1078,$B45,$D45:$D1078,$D45,$E45:$E1078,$E45)/2 -> 0 | J44: =SUMIFS(J45:J1078,$B45:$B1078,$B45,$D45:$D1078,$D45,$E45:$E1078,$E45)/2 -> 3305.7 | K44: =SUMIFS(K45:K1078,$B45:$B1078,$B45,$D45:$D1078,$D45,$E45:$E1078,$E45)/2 -> 0
A45: 2 | B45: 934 | C45: МП "Развитие и улучшение материально-технического оснащения муниципальных учреждений муниципального района Кинельский" на 2024-2028 годы. | D45: 01 | E45: 06 | F45: 11 0 00 00000 | H45: =SUMIFS(H46:H1078,$B46:$B1078,$B45,$D46:$D1078,$D46,$E46:$E1078,$E46,$F46:$F1078,$F46) -> 0 | I45: =SUMIFS(I46:I1078,$B46:$B1078,$B45,$D46:$D1078,$D46,$E46:$E1078,$E46,$F46:$F1078,$F46) -> 0 | J45: =SUMIFS(J46:J1078,$B46:$B1078,$B45,$D46:$D1078,$D46,$E46:$E1078,$E46,$F46:$F1078,$F46) -> 0 | K45: =SUMIFS(K46:K1078,$B46:$B1078,$B45,$D46:$D1078,$D46,$E46:$E1078,$E46,$F46:$F1078,$F46) -> 0
A46: 3 | B46: 934 | C46: Иные закупки товаров, работ и услуг для обеспечения государственных (муниципальных) нужд | D46: 01 | E46: 06 | F46: 11 0 00 00000 | G46: 240
A47: 2 | B47: 934 | C47: МП "Развитие муниципальной службы в органах местного самоуправления муниципального района Кинельский Самарской области" на 2022-2028 г | D47: 01 | E47: 06 | F47: 16 0 00 00000 | H47: =SUMIFS(H48:H1080,$B48:$B1080,$B47,$D48:$D1080,$D48,$E48:$E1080,$E48,$F48:$F1080,$F48) -> 4.5 | I47: =SUMIFS(I48:I1080,$B48:$B1080,$B47,$D48:$D1080,$D48,$E48:$E1080,$E48,$F48:$F1080,$F48) -> 0 | J47: =SUMIFS(J48:J1080,$B48:$B1080,$B47,$D48:$D1080,$D48,$E48:$E1080,$E48,$F48:$F1080,$F48) -> 4.5 | K47: =SUMIFS(K48:K1080,$B48:$B1080,$B47,$D48:$D1080,$D48,$E48:$E1080,$E48,$F48:$F1080,$F48) -> 0
A48: 3 | B48: 934 | C48: Иные закупки товаров, работ и услуг для обеспечения государственных (муниципальных) нужд | D48: 01 | E48: 06 | F48: 16 0 00 00000 | G48: 240 | H48: 4.5 | J48: 4.5
...

Sheet КС
B3: Уровень бюджета | C3: КБК | D3: Сумма, тыс. рублей | F3: Уточнённая сумма, тыс. рублей
D7: Всего | E7: В том числе за счет безвозмезд- ных поступлений | F7: Всего | G7: В том числе за счет безвозмезд- ных поступлений
B11: 0 | C11: КВСР | D11: =SUMIF('Приложение №4'!$A$14:$A1066,0,'Приложение №4'!$H$14:$H1066) -> 1274437.6 | E11: =SUMIF('Приложение №4'!$A$14:$A1066,0,'Приложение №4'!$I$14:$I1066) -> 466108.8 | F11: =SUMIF('Приложение №4'!$A$14:$A1066,0,'Приложение №4'!#REF!) -> #REF! | G11: =SUMIF('Приложение №4'!$A$14:$A1066,0,'Приложение №4'!#REF!) -> #REF!
B12: 1 | C12: ФКР | D12: =SUMIF('Приложение №4'!$A$14:$A1067,1,'Приложение №4'!$H$14:$H1067) -> 1274437.6 | E12: =SUMIF('Приложение №4'!$A$14:$A1067,1,'Приложение №4'!$I$14:$I1067) -> 466108.8 | F12: =SUMIF('Приложение №4'!$A$14:$A1067,1,'Приложение №4'!#REF!) -> #REF! | G12: =SUMIF('Приложение №4'!$A$14:$A1067,1,'Приложение №4'!#REF!) -> #REF!
B13: 2 | C13: КЦСР | D13: =SUMIF('Приложение №4'!$A$14:$A1068,2,'Приложение №4'!$H$14:$H1068) -> 1274437.6 | E13: =SUMIF('Приложение №4'!$A$14:$A1068,2,'Приложение №4'!$I$14:$I1068) -> 466108.8 | F13: =SUMIF('Приложение №4'!$A$14:$A1068,2,'Приложение №4'!#REF!) -> #REF! | G13: =SUMIF('Приложение №4'!$A$14:$A1068,2,'Приложение №4'!#REF!) -> #REF!
B14: 3 = ИТОГ | C14: КВР | D14: =SUMIF('Приложение №4'!$A$14:$A1069,3,'Приложение №4'!$H$14:$H1069) -> 1274437.6 | E14: =SUMIF('Приложение №4'!$A$14:$A1069,3,'Приложение №4'!$I$14:$I1069) -> 466108.8 | F14: =SUMIF('Приложение №4'!$A$14:$A1069,3,'Приложение №4'!#REF!) -> #REF! | G14: =SUMIF('Приложение №4'!$A$14:$A1069,3,'Приложение №4'!#REF!) -> #REF!
B15: 0 | C15: КВСР | D15: =D14-D11 -> 0 | E15: =E14-E11 -> 0 | F15: =F14-F11 -> #REF! | G15: =G14-G11 -> #REF!
B16: 1 | C16: ФКР | D16: =D14-D12 -> 0 | E16: =E14-E12 -> 0 | F16: =F14-F12 -> #REF! | G16: =G14-G12 -> #REF!
B17: 2 | C17: КЦСР | D17: =D14-D13 -> 0 | E17: =E14-E13 -> 0 | F17: =F14-F13 -> #REF! | G17: =G14-G13 -> #REF!
